BEGIN:VCALENDAR
VERSION:2.0
PRODID:-//hacksw/handcal//NONSGML v1.0//EN
CALSCALE:GREGORIAN
BEGIN:VEVENT
LOCATION:Barcelona
DESCRIPTION:
DTSTART:20180322T170000Z
DTEND:20180322T170000Z
SUMMARY:Taula rodona: "Aigua\, la crisi de les noves generacions"
URL;VALUE=URI:https://arquitectes.cat/ca/content/taula-rodona-aigua-la-crisi-de-les-noves-generacions
DTSTAMP:20260419T162741Z
UID:69e4e65dbc446
END:VEVENT
END:VCALENDAR