BEGIN:VCALENDAR
VERSION:2.0
PRODID:-//hacksw/handcal//NONSGML v1.0//EN
CALSCALE:GREGORIAN
BEGIN:VEVENT
LOCATION:Barcelona
DESCRIPTION:
DTSTART:20180321T173000Z
DTEND:20180321T173000Z
SUMMARY:3D Printing in Architecture
URL;VALUE=URI:https://arquitectes.cat/ca/node/29108
DTSTAMP:20260419T150609Z
UID:69e4d341ebaea
END:VEVENT
END:VCALENDAR