BEGIN:VCALENDAR
VERSION:2.0
PRODID:-//hacksw/handcal//NONSGML v1.0//EN
CALSCALE:GREGORIAN
BEGIN:VEVENT
LOCATION:Barcelona
DESCRIPTION:
DTSTART:20180324T080000Z
DTEND:20180513T180000Z
SUMMARY:Exposició: "Design Does. Allò que el disseny fa"
URL;VALUE=URI:https://arquitectes.cat/ca/content/exposici%C3%B3-design-does-all%C3%B2-que-el-disseny-fa
DTSTAMP:20260419T224122Z
UID:69e53df2e83a3
END:VEVENT
END:VCALENDAR