BEGIN:VCALENDAR
VERSION:2.0
PRODID:-//hacksw/handcal//NONSGML v1.0//EN
CALSCALE:GREGORIAN
BEGIN:VEVENT
LOCATION:Barcelona
DESCRIPTION:
DTSTART:20180315T170000Z
DTEND:20180315T170000Z
SUMMARY:Taula rodona "Xarxes Socials: Del click al like"
URL;VALUE=URI:https://arquitectes.cat/ca/content/taula-rodona-xarxes-socials-del-click-al
DTSTAMP:20260419T200905Z
UID:69e51a41834c7
END:VEVENT
END:VCALENDAR