BEGIN:VCALENDAR
VERSION:2.0
PRODID:-//hacksw/handcal//NONSGML v1.0//EN
CALSCALE:GREGORIAN
BEGIN:VEVENT
LOCATION:Barcelona
DESCRIPTION:
DTSTART:20180310T100000Z
DTEND:20180310T100000Z
SUMMARY:La ciutat transparent. Una mirada curiosa sobre Barcelona al llarg del temps! 
URL;VALUE=URI:https://arquitectes.cat/ca/content/la-ciutat-transparent-una-mirada-curiosa-sobre-barcelona-al-llarg-del-temps
DTSTAMP:20260419T164935Z
UID:69e4eb7f9c963
END:VEVENT
END:VCALENDAR