BEGIN:VCALENDAR
VERSION:2.0
PRODID:-//hacksw/handcal//NONSGML v1.0//EN
CALSCALE:GREGORIAN
BEGIN:VEVENT
LOCATION:Barcelona
DESCRIPTION:
DTSTART:20180314T170000Z
DTEND:20180314T170000Z
SUMMARY:Presentació del llibre "Brevario de Ronchamp"\, per Josep Quetglas
URL;VALUE=URI:https://arquitectes.cat/ca/content/presentaci%C3%B3-del-llibre-brevario-de-ronchamp-josep-quetglas
DTSTAMP:20260420T034509Z
UID:69e58525ed4b5
END:VEVENT
END:VCALENDAR