BEGIN:VCALENDAR
VERSION:2.0
PRODID:-//hacksw/handcal//NONSGML v1.0//EN
CALSCALE:GREGORIAN
BEGIN:VEVENT
LOCATION:Sant Cugat del Vallès
DESCRIPTION:
DTSTART:20180306T090000Z
DTEND:20180306T090000Z
SUMMARY:"Lightness". Conferència de Ramon Sastre
URL;VALUE=URI:https://arquitectes.cat/ca/content/lightness-confer%C3%A8ncia-de-ramon-sastre
DTSTAMP:20260419T195515Z
UID:69e517032bbf6
END:VEVENT
END:VCALENDAR