BEGIN:VCALENDAR
VERSION:2.0
PRODID:-//hacksw/handcal//NONSGML v1.0//EN
CALSCALE:GREGORIAN
BEGIN:VEVENT
LOCATION:Barcelona
DESCRIPTION:
DTSTART:20180315T170000Z
DTEND:20180315T170000Z
SUMMARY:Talks that matter. Women matter
URL;VALUE=URI:https://arquitectes.cat/ca/content/talks-matter-women-matter
DTSTAMP:20260419T182938Z
UID:69e502f230eb2
END:VEVENT
END:VCALENDAR