BEGIN:VCALENDAR
VERSION:2.0
PRODID:-//hacksw/handcal//NONSGML v1.0//EN
CALSCALE:GREGORIAN
BEGIN:VEVENT
LOCATION:Sant Cugat del Vallès
DESCRIPTION:
DTSTART:20180227T080000Z
DTEND:20180323T190000Z
SUMMARY:Exposició: "Sekler in Memoriam: 1920-2017"
URL;VALUE=URI:https://arquitectes.cat/ca/content/exposici%C3%B3-sekler-memoriam-1920-2017
DTSTAMP:20260419T173149Z
UID:69e4f565de5d6
END:VEVENT
END:VCALENDAR