BEGIN:VCALENDAR
VERSION:2.0
PRODID:-//hacksw/handcal//NONSGML v1.0//EN
CALSCALE:GREGORIAN
BEGIN:VEVENT
LOCATION:Tortosa
DESCRIPTION:
DTSTART:20180310T080000Z
DTEND:20180310T080000Z
SUMMARY:Sortida de proximitat. Visites guiades a edificis de Benicarló
URL;VALUE=URI:https://arquitectes.cat/ca/content/sortida-de-proximitat-visites-guiades-edificis-de-benicarl%C3%B3
DTSTAMP:20260419T192057Z
UID:69e50ef9cd2c5
END:VEVENT
END:VCALENDAR