BEGIN:VCALENDAR
VERSION:2.0
PRODID:-//hacksw/handcal//NONSGML v1.0//EN
CALSCALE:GREGORIAN
BEGIN:VEVENT
LOCATION:Terrassa
DESCRIPTION:
DTSTART:20180311T083000Z
DTEND:20180311T083000Z
SUMMARY:Passejada per les voltes del Vapor Aymerich\, Amat i Jover
URL;VALUE=URI:https://arquitectes.cat/ca/content/passejada-les-voltes-del-vapor-aymerich-amat-i-jover-0
DTSTAMP:20260420T073950Z
UID:69e5bc2677580
END:VEVENT
END:VCALENDAR