BEGIN:VCALENDAR
VERSION:2.0
PRODID:-//hacksw/handcal//NONSGML v1.0//EN
CALSCALE:GREGORIAN
BEGIN:VEVENT
LOCATION:Barcelona
DESCRIPTION:
DTSTART:20180212T170000Z
DTEND:20180623T120000Z
SUMMARY:Exposició: "Pere Portabella. Cinema\, art i política"
URL;VALUE=URI:https://arquitectes.cat/ca/content/exposici%C3%B3-pere-portabella-cinema-art-i-pol%C3%ADtica
DTSTAMP:20260422T190836Z
UID:69e90094eac8d
END:VEVENT
END:VCALENDAR