BEGIN:VCALENDAR
VERSION:2.0
PRODID:-//hacksw/handcal//NONSGML v1.0//EN
CALSCALE:GREGORIAN
BEGIN:VEVENT
LOCATION:Barcelona
DESCRIPTION:
DTSTART:20180213T103000Z
DTEND:20180213T103000Z
SUMMARY:Conferència d'Arcadi Pla: New Apple Stores + HQ Cupertino
URL;VALUE=URI:https://arquitectes.cat/ca/content/confer%C3%A8ncia-darcadi-pla-new-apple-stores-hq-cupertino
DTSTAMP:20260420T033602Z
UID:69e58302a876a
END:VEVENT
END:VCALENDAR