BEGIN:VCALENDAR
VERSION:2.0
PRODID:-//hacksw/handcal//NONSGML v1.0//EN
CALSCALE:GREGORIAN
BEGIN:VEVENT
LOCATION:Barcelona
DESCRIPTION:
DTSTART:20180208T104500Z
DTEND:20180208T104500Z
SUMMARY:Spring 2018 Lecture Series: Robert Brufau
URL;VALUE=URI:https://arquitectes.cat/ca/node/28848
DTSTAMP:20260420T001855Z
UID:69e554cf0cad3
END:VEVENT
END:VCALENDAR