BEGIN:VCALENDAR
VERSION:2.0
PRODID:-//hacksw/handcal//NONSGML v1.0//EN
CALSCALE:GREGORIAN
BEGIN:VEVENT
LOCATION:Barcelona
DESCRIPTION:
DTSTART:20180212T060000Z
DTEND:20180214T170000Z
SUMMARY:InnoChain. Second Year Colloquium and Exhibition
URL;VALUE=URI:https://arquitectes.cat/ca/node/28837
DTSTAMP:20260420T053022Z
UID:69e59dce15965
END:VEVENT
END:VCALENDAR