BEGIN:VCALENDAR
VERSION:2.0
PRODID:-//hacksw/handcal//NONSGML v1.0//EN
CALSCALE:GREGORIAN
BEGIN:VEVENT
LOCATION:Barcelona
DESCRIPTION:
DTSTART:20180331T090000Z
DTEND:20180331T090000Z
SUMMARY:Visita guiada a la Casa Bloc
URL;VALUE=URI:https://arquitectes.cat/ca/node/28823
DTSTAMP:20260423T195804Z
UID:69ea5dac414c7
END:VEVENT
END:VCALENDAR