BEGIN:VCALENDAR
VERSION:2.0
PRODID:-//hacksw/handcal//NONSGML v1.0//EN
CALSCALE:GREGORIAN
BEGIN:VEVENT
LOCATION:Barcelona
DESCRIPTION:
DTSTART:20180216T160000Z
DTEND:20180218T180000Z
SUMMARY:Playball - Instalación del IAAC en el Festival Llum BCN 2018
URL;VALUE=URI:https://arquitectes.cat/ca/node/28810
DTSTAMP:20260422T221324Z
UID:69e92be4179d6
END:VEVENT
END:VCALENDAR