BEGIN:VCALENDAR
VERSION:2.0
PRODID:-//hacksw/handcal//NONSGML v1.0//EN
CALSCALE:GREGORIAN
BEGIN:VEVENT
LOCATION:Barcelona
DESCRIPTION:
DTSTART:20180216T080000Z
DTEND:20180521T130000Z
SUMMARY:Exposició: Beehave
URL;VALUE=URI:https://arquitectes.cat/ca/content/exposici%C3%B3-beehave
DTSTAMP:20260421T084404Z
UID:69e71cb4eec62
END:VEVENT
END:VCALENDAR