BEGIN:VCALENDAR
VERSION:2.0
PRODID:-//hacksw/handcal//NONSGML v1.0//EN
CALSCALE:GREGORIAN
BEGIN:VEVENT
LOCATION:Barcelona
DESCRIPTION:
DTSTART:20180422T090000Z
DTEND:20180422T090000Z
SUMMARY:ABC Miró. Visita en família
URL;VALUE=URI:https://arquitectes.cat/ca/content/abc-mir%C3%B3-visita-en-fam%C3%ADlia
DTSTAMP:20260419T223343Z
UID:69e53c272b4c4
END:VEVENT
END:VCALENDAR