BEGIN:VCALENDAR
VERSION:2.0
PRODID:-//hacksw/handcal//NONSGML v1.0//EN
CALSCALE:GREGORIAN
BEGIN:VEVENT
LOCATION:Barcelona
DESCRIPTION:
DTSTART:20180208T170000Z
DTEND:20180208T170000Z
SUMMARY:Out of Metrics\, amb Adbusters
URL;VALUE=URI:https://arquitectes.cat/ca/content/out-metrics-amb-adbusters
DTSTAMP:20260423T054936Z
UID:69e996d0c9182
END:VEVENT
END:VCALENDAR