BEGIN:VCALENDAR
VERSION:2.0
PRODID:-//hacksw/handcal//NONSGML v1.0//EN
CALSCALE:GREGORIAN
BEGIN:VEVENT
LOCATION:Girona
DESCRIPTION:
DTSTART:20180127T080000Z
DTEND:20180127T080000Z
SUMMARY:Visita guiada a los Baños Árabes
URL;VALUE=URI:https://arquitectes.cat/ca/node/28683
DTSTAMP:20260419T233317Z
UID:69e54a1d67cf3
END:VEVENT
END:VCALENDAR