BEGIN:VCALENDAR
VERSION:2.0
PRODID:-//hacksw/handcal//NONSGML v1.0//EN
CALSCALE:GREGORIAN
BEGIN:VEVENT
LOCATION:Barcelona
DESCRIPTION:
DTSTART:20180118T160000Z
DTEND:20180126T180000Z
SUMMARY:Exposició "Suant tinta"\, amb xerrada de Reskate Arts and Crafts
URL;VALUE=URI:https://arquitectes.cat/ca/content/exposici%C3%B3-suant-tinta-amb-xerrada-de-reskate-arts-and-crafts
DTSTAMP:20260425T234049Z
UID:69ed34e1359c4
END:VEVENT
END:VCALENDAR