BEGIN:VCALENDAR
VERSION:2.0
PRODID:-//hacksw/handcal//NONSGML v1.0//EN
CALSCALE:GREGORIAN
BEGIN:VEVENT
LOCATION:Barcelona
DESCRIPTION:
DTSTART:20180210T090000Z
DTEND:20180210T090000Z
SUMMARY:Guided tour to the Casa Bloc
URL;VALUE=URI:https://arquitectes.cat/ca/node/28634
DTSTAMP:20260420T033256Z
UID:69e582483eb53
END:VEVENT
END:VCALENDAR