BEGIN:VCALENDAR
VERSION:2.0
PRODID:-//hacksw/handcal//NONSGML v1.0//EN
CALSCALE:GREGORIAN
BEGIN:VEVENT
LOCATION:Barcelona
DESCRIPTION:
DTSTART:20180224T090000Z
DTEND:20180224T090000Z
SUMMARY:Guided tour to the Casa Bloc
URL;VALUE=URI:https://arquitectes.cat/ca/node/28628
DTSTAMP:20260426T050622Z
UID:69ed812ec2792
END:VEVENT
END:VCALENDAR