BEGIN:VCALENDAR
VERSION:2.0
PRODID:-//hacksw/handcal//NONSGML v1.0//EN
CALSCALE:GREGORIAN
BEGIN:VEVENT
LOCATION:Barcelona
DESCRIPTION:
DTSTART:20180118T170000Z
DTEND:20180118T170000Z
SUMMARY:Ciclo "Arquitectura en Corto". Proyección de los cortos "Low cost\, smart architecture" y "House 712"
URL;VALUE=URI:https://arquitectes.cat/ca/node/28627
DTSTAMP:20260420T033445Z
UID:69e582b588b65
END:VEVENT
END:VCALENDAR