BEGIN:VCALENDAR
VERSION:2.0
PRODID:-//hacksw/handcal//NONSGML v1.0//EN
CALSCALE:GREGORIAN
BEGIN:VEVENT
LOCATION:Barcelona
DESCRIPTION:
DTSTART:20171130T083000Z
DTEND:20180105T220000Z
SUMMARY:EINA dissenya l'aparador de l'Hipermerc'Art de la Moritz Store
URL;VALUE=URI:https://arquitectes.cat/ca/content/eina-dissenya-laparador-de-lhipermercart-de-la-moritz-store
DTSTAMP:20260422T120508Z
UID:69e89d54274cd
END:VEVENT
END:VCALENDAR