BEGIN:VCALENDAR
VERSION:2.0
PRODID:-//hacksw/handcal//NONSGML v1.0//EN
CALSCALE:GREGORIAN
BEGIN:VEVENT
LOCATION:Barcelona
DESCRIPTION:
DTSTART:20180121T090000Z
DTEND:20180121T090000Z
SUMMARY:Visita en família: Amb els cinc sentits
URL;VALUE=URI:https://arquitectes.cat/ca/content/visita-en-fam%C3%ADlia-amb-els-cinc-sentits
DTSTAMP:20260422T075512Z
UID:69e862c0b16f6
END:VEVENT
END:VCALENDAR