BEGIN:VCALENDAR
VERSION:2.0
PRODID:-//hacksw/handcal//NONSGML v1.0//EN
CALSCALE:GREGORIAN
BEGIN:VEVENT
LOCATION:Barcelona
DESCRIPTION:
DTSTART:20171219T110000Z
DTEND:20171219T110000Z
SUMMARY:Presentació de la publicació "Mies van der Rohe - Barcelona 1929" al Pavelló
URL;VALUE=URI:https://arquitectes.cat/ca/content/presentaci%C3%B3-de-la-publicaci%C3%B3-mies-van-der-rohe-barcelona-1929-al-pavell%C3%B3
DTSTAMP:20260420T033245Z
UID:69e5823d8c368
END:VEVENT
END:VCALENDAR