BEGIN:VCALENDAR
VERSION:2.0
PRODID:-//hacksw/handcal//NONSGML v1.0//EN
CALSCALE:GREGORIAN
BEGIN:VEVENT
LOCATION:Barcelona
DESCRIPTION:
DTSTART:20170910T093000Z
DTEND:20171231T123000Z
SUMMARY:Taller: "Terra Líquida"
URL;VALUE=URI:https://arquitectes.cat/ca/content/taller-terra-l%C3%ADquida-0
DTSTAMP:20260420T033612Z
UID:69e5830cb2083
END:VEVENT
END:VCALENDAR