BEGIN:VCALENDAR
VERSION:2.0
PRODID:-//hacksw/handcal//NONSGML v1.0//EN
CALSCALE:GREGORIAN
BEGIN:VEVENT
LOCATION:Barcelona
DESCRIPTION:
DTSTART:20171229T090000Z
DTEND:20180104T123000Z
SUMMARY:Tallers infantils de Nadal: "Pengim penjam. Objectes de Nadal"
URL;VALUE=URI:https://arquitectes.cat/ca/content/tallers-infantils-de-nadal-pengim-penjam-objectes-de-nadal
DTSTAMP:20260425T200031Z
UID:69ed013f6a6e2
END:VEVENT
END:VCALENDAR