BEGIN:VCALENDAR
VERSION:2.0
PRODID:-//hacksw/handcal//NONSGML v1.0//EN
CALSCALE:GREGORIAN
BEGIN:VEVENT
LOCATION:Barcelona
DESCRIPTION:
DTSTART:20171214T150000Z
DTEND:20171214T150000Z
SUMMARY:Workshop "La bellesa de la forma i dels materials"\, impartit per l'arquitecte i fotògraf Nicanor García
URL;VALUE=URI:https://arquitectes.cat/ca/content/workshop-la-bellesa-de-la-forma-i-dels-materials-impartit-larquitecte-i-fot%C3%B2graf-nicanor
DTSTAMP:20260422T095931Z
UID:69e87fe393910
END:VEVENT
END:VCALENDAR