BEGIN:VCALENDAR
VERSION:2.0
PRODID:-//hacksw/handcal//NONSGML v1.0//EN
CALSCALE:GREGORIAN
BEGIN:VEVENT
LOCATION:Girona
DESCRIPTION:
DTSTART:20171218T070000Z
DTEND:20180225T143000Z
SUMMARY:Exposició "Im Ruhrgebiet\; Paisatge industrial a la Conca del Ruhr"
URL;VALUE=URI:https://arquitectes.cat/ca/content/exposici%C3%B3-im-ruhrgebiet-paisatge-industrial-la-conca-del-ruhr
DTSTAMP:20260419T225649Z
UID:69e54191da193
END:VEVENT
END:VCALENDAR