BEGIN:VCALENDAR
VERSION:2.0
PRODID:-//hacksw/handcal//NONSGML v1.0//EN
CALSCALE:GREGORIAN
BEGIN:VEVENT
LOCATION:Barcelona
DESCRIPTION:
DTSTART:20171220T080000Z
DTEND:20180118T180000Z
SUMMARY:El projecte Life Reusing Posidonia arriba a Barcelona
URL;VALUE=URI:https://arquitectes.cat/ca/content/el-projecte-life-reusing-posidonia-arriba-barcelona
DTSTAMP:20260425T195631Z
UID:69ed004f8b935
END:VEVENT
END:VCALENDAR