BEGIN:VCALENDAR
VERSION:2.0
PRODID:-//hacksw/handcal//NONSGML v1.0//EN
CALSCALE:GREGORIAN
BEGIN:VEVENT
LOCATION:Barcelona
DESCRIPTION:
DTSTART:20180113T090000Z
DTEND:20180113T090000Z
SUMMARY:Visita guiada a la Casa Bloc
URL;VALUE=URI:https://arquitectes.cat/ca/content/visita-guiada-la-casa-bloc-30
DTSTAMP:20260420T074429Z
UID:69e5bd3d25eb3
END:VEVENT
END:VCALENDAR