BEGIN:VCALENDAR
VERSION:2.0
PRODID:-//hacksw/handcal//NONSGML v1.0//EN
CALSCALE:GREGORIAN
BEGIN:VEVENT
LOCATION:Barcelona
DESCRIPTION:
DTSTART:20171130T173000Z
DTEND:20171130T173000Z
SUMMARY:Open lecture 'Laboratory of the Senses. On Architecture and Enology' by AA Visiting School Barcelona
URL;VALUE=URI:https://arquitectes.cat/ca/node/28367
DTSTAMP:20260419T155258Z
UID:69e4de3a6831e
END:VEVENT
END:VCALENDAR