BEGIN:VCALENDAR
VERSION:2.0
PRODID:-//hacksw/handcal//NONSGML v1.0//EN
CALSCALE:GREGORIAN
BEGIN:VEVENT
LOCATION:Manresa
DESCRIPTION:
DTSTART:20171123T071500Z
DTEND:20171216T071500Z
SUMMARY:Exposición: "Topografías Urbanas"
URL;VALUE=URI:https://arquitectes.cat/ca/node/28343
DTSTAMP:20260426T042248Z
UID:69ed76f8c1342
END:VEVENT
END:VCALENDAR