BEGIN:VCALENDAR
VERSION:2.0
PRODID:-//hacksw/handcal//NONSGML v1.0//EN
CALSCALE:GREGORIAN
BEGIN:VEVENT
LOCATION:Barcelona
DESCRIPTION:
DTSTART:20171123T170000Z
DTEND:20180120T183000Z
SUMMARY:Exposició: "Una mirada fotogràfica sobre Puig i Cadafalch"
URL;VALUE=URI:https://arquitectes.cat/ca/content/exposici%C3%B3-una-mirada-fotogr%C3%A0fica-sobre-puig-i-cadafalch
DTSTAMP:20260420T013354Z
UID:69e5666251ce2
END:VEVENT
END:VCALENDAR