BEGIN:VCALENDAR
VERSION:2.0
PRODID:-//hacksw/handcal//NONSGML v1.0//EN
CALSCALE:GREGORIAN
BEGIN:VEVENT
LOCATION:Barcelona
DESCRIPTION:
DTSTART:20171130T170000Z
DTEND:20171212T180000Z
SUMMARY:Exposició: "Darrere el teló: reinterpretació de la temporada d’òpera del Liceu 2017-2018"
URL;VALUE=URI:https://arquitectes.cat/ca/content/exposici%C3%B3-darrere-el-tel%C3%B3-reinterpretaci%C3%B3-de-la-temporada-d%E2%80%99%C3%B2pera-del-liceu-2017-2018
DTSTAMP:20260420T013047Z
UID:69e565a7799ea
END:VEVENT
END:VCALENDAR