BEGIN:VCALENDAR
VERSION:2.0
PRODID:-//hacksw/handcal//NONSGML v1.0//EN
CALSCALE:GREGORIAN
BEGIN:VEVENT
LOCATION:Barcelona
DESCRIPTION:
DTSTART:20171203T090000Z
DTEND:20171203T090000Z
SUMMARY:Guided tour to the Joan Miró Foundation building
URL;VALUE=URI:https://arquitectes.cat/ca/node/28280
DTSTAMP:20260422T053211Z
UID:69e8413bbe3bd
END:VEVENT
END:VCALENDAR