BEGIN:VCALENDAR
VERSION:2.0
PRODID:-//hacksw/handcal//NONSGML v1.0//EN
CALSCALE:GREGORIAN
BEGIN:VEVENT
LOCATION:Tarragona
DESCRIPTION:
DTSTART:20171116T141500Z
DTEND:20171116T141500Z
SUMMARY:Zürich West
URL;VALUE=URI:https://arquitectes.cat/ca/node/28275
DTSTAMP:20260425T200751Z
UID:69ed02f7cabcf
END:VEVENT
END:VCALENDAR