BEGIN:VCALENDAR
VERSION:2.0
PRODID:-//hacksw/handcal//NONSGML v1.0//EN
CALSCALE:GREGORIAN
BEGIN:VEVENT
LOCATION:Sant Cugat del Vallès
DESCRIPTION:
DTSTART:20171116T083000Z
DTEND:20171116T083000Z
SUMMARY:Conferència: Càmpings\, furgos i autocaravanes. És l'arquitectura efímera una solució per al turisme sostenible?
URL;VALUE=URI:https://arquitectes.cat/ca/content/confer%C3%A8ncia-c%C3%A0mpings-furgos-i-autocaravanes-%C3%A9s-larquitectura-ef%C3%ADmera-una-soluci%C3%B3-al-turisme
DTSTAMP:20260419T143658Z
UID:69e4cc6a1aabc
END:VEVENT
END:VCALENDAR