BEGIN:VCALENDAR
VERSION:2.0
PRODID:-//hacksw/handcal//NONSGML v1.0//EN
CALSCALE:GREGORIAN
BEGIN:VEVENT
LOCATION:Barcelona
DESCRIPTION:
DTSTART:20171123T170000Z
DTEND:20171123T170000Z
SUMMARY:Arquinset'17. Taula rodona "Les arquitectures dels jocs: llegat o càrrega?"
URL;VALUE=URI:https://arquitectes.cat/ca/content/arquinset17-taula-rodona-les-arquitectures-dels-jocs-llegat-o-c%C3%A0rrega-0
DTSTAMP:20260419T170342Z
UID:69e4eeceb248a
END:VEVENT
END:VCALENDAR