BEGIN:VCALENDAR
VERSION:2.0
PRODID:-//hacksw/handcal//NONSGML v1.0//EN
CALSCALE:GREGORIAN
BEGIN:VEVENT
LOCATION:Barcelona
DESCRIPTION:
DTSTART:20171127T170000Z
DTEND:20171127T170000Z
SUMMARY:Arquinset'17. Taula rodona: "JJOO i model urbà: Barcelona i el llegat del 92"
URL;VALUE=URI:https://arquitectes.cat/ca/content/arquinset17-taula-rodona-jjoo-i-model-urb%C3%A0-barcelona-i-el-llegat-del-92
DTSTAMP:20260420T071739Z
UID:69e5b6f36e195
END:VEVENT
END:VCALENDAR