BEGIN:VCALENDAR
VERSION:2.0
PRODID:-//hacksw/handcal//NONSGML v1.0//EN
CALSCALE:GREGORIAN
BEGIN:VEVENT
LOCATION:Barcelona
DESCRIPTION:
DTSTART:20171110T160000Z
DTEND:20171217T180000Z
SUMMARY:Exposició "Passatges/BCN. Espais de transició per a la ciutat del segle XXI"
URL;VALUE=URI:https://arquitectes.cat/ca/content/exposici%C3%B3-passatgesbcn-espais-de-transici%C3%B3-la-ciutat-del-segle-xxi
DTSTAMP:20260420T074534Z
UID:69e5bd7e54996
END:VEVENT
END:VCALENDAR