BEGIN:VCALENDAR
VERSION:2.0
PRODID:-//hacksw/handcal//NONSGML v1.0//EN
CALSCALE:GREGORIAN
BEGIN:VEVENT
LOCATION:Olot
DESCRIPTION:
DTSTART:20171109T173000Z
DTEND:20171109T173000Z
SUMMARY:Conferencia "Iluminar y pensar" con Xavier Monteys
URL;VALUE=URI:https://arquitectes.cat/ca/node/28169
DTSTAMP:20260426T033623Z
UID:69ed6c172ea99
END:VEVENT
END:VCALENDAR