BEGIN:VCALENDAR
VERSION:2.0
PRODID:-//hacksw/handcal//NONSGML v1.0//EN
CALSCALE:GREGORIAN
BEGIN:VEVENT
LOCATION:Barcelona
DESCRIPTION:
DTSTART:20171102T170000Z
DTEND:20171125T180000Z
SUMMARY:Exposició "La revolució és una ficció\, la ficció és una revolució: un assaig"
URL;VALUE=URI:https://arquitectes.cat/ca/content/exposici%C3%B3-la-revoluci%C3%B3-%C3%A9s-una-ficci%C3%B3-la-ficci%C3%B3-%C3%A9s-una-revoluci%C3%B3-un-assaig
DTSTAMP:20260419T221443Z
UID:69e537b322b88
END:VEVENT
END:VCALENDAR