BEGIN:VCALENDAR
VERSION:2.0
PRODID:-//hacksw/handcal//NONSGML v1.0//EN
CALSCALE:GREGORIAN
BEGIN:VEVENT
LOCATION:Barcelona
DESCRIPTION:
DTSTART:20171026T100000Z
DTEND:20171026T100000Z
SUMMARY:Lliçó inaugural ETSAB: Rafael Moneo
URL;VALUE=URI:https://arquitectes.cat/ca/content/lli%C3%A7%C3%B3-inaugural-etsab-rafael-moneo
DTSTAMP:20260422T190906Z
UID:69e900b2e4492
END:VEVENT
END:VCALENDAR