BEGIN:VCALENDAR
VERSION:2.0
PRODID:-//hacksw/handcal//NONSGML v1.0//EN
CALSCALE:GREGORIAN
BEGIN:VEVENT
LOCATION:Tarragona
DESCRIPTION:
DTSTART:20171108T170000Z
DTEND:20171129T180000Z
SUMMARY:Cicle: Habitar\, residir\, viure. Mirades sobre la casa
URL;VALUE=URI:https://arquitectes.cat/ca/content/cicle-habitar-residir-viure-mirades-sobre-la-casa-0
DTSTAMP:20260420T053319Z
UID:69e59e7f0650f
END:VEVENT
END:VCALENDAR