BEGIN:VCALENDAR
VERSION:2.0
PRODID:-//hacksw/handcal//NONSGML v1.0//EN
CALSCALE:GREGORIAN
BEGIN:VEVENT
LOCATION:Barcelona
DESCRIPTION:
DTSTART:20171129T170000Z
DTEND:20171129T170000Z
SUMMARY:Aigua i Metròpolis\, per José Esteban Castro
URL;VALUE=URI:https://arquitectes.cat/ca/content/aigua-i-metr%C3%B2polis-jos%C3%A9-esteban-castro
DTSTAMP:20260419T223012Z
UID:69e53b5408004
END:VEVENT
END:VCALENDAR