BEGIN:VCALENDAR
VERSION:2.0
PRODID:-//hacksw/handcal//NONSGML v1.0//EN
CALSCALE:GREGORIAN
BEGIN:VEVENT
LOCATION:Girona
DESCRIPTION:
DTSTART:20171027T103000Z
DTEND:20171027T103000Z
SUMMARY:Cicle MARQ 2017-18. "Merging public space and nature. Enric Batlle"
URL;VALUE=URI:https://arquitectes.cat/ca/content/cicle-marq-2017-18-merging-public-space-and-nature-enric-batlle
DTSTAMP:20260425T234131Z
UID:69ed350bc3846
END:VEVENT
END:VCALENDAR